BEGIN:VCALENDAR
VERSION:2.0
PRODID:-//MSRT - ECPv6.15.20//NONSGML v1.0//EN
CALSCALE:GREGORIAN
METHOD:PUBLISH
X-ORIGINAL-URL:https://msrt.org
X-WR-CALDESC:Events for MSRT
REFRESH-INTERVAL;VALUE=DURATION:PT1H
X-Robots-Tag:noindex
X-PUBLISHED-TTL:PT1H
BEGIN:VTIMEZONE
TZID:America/Detroit
BEGIN:DAYLIGHT
TZOFFSETFROM:-0500
TZOFFSETTO:-0400
TZNAME:EDT
DTSTART:20250309T070000
END:DAYLIGHT
BEGIN:STANDARD
TZOFFSETFROM:-0400
TZOFFSETTO:-0500
TZNAME:EST
DTSTART:20251102T060000
END:STANDARD
BEGIN:DAYLIGHT
TZOFFSETFROM:-0500
TZOFFSETTO:-0400
TZNAME:EDT
DTSTART:20260308T070000
END:DAYLIGHT
BEGIN:STANDARD
TZOFFSETFROM:-0400
TZOFFSETTO:-0500
TZNAME:EST
DTSTART:20261101T060000
END:STANDARD
BEGIN:DAYLIGHT
TZOFFSETFROM:-0500
TZOFFSETTO:-0400
TZNAME:EDT
DTSTART:20270314T070000
END:DAYLIGHT
BEGIN:STANDARD
TZOFFSETFROM:-0400
TZOFFSETTO:-0500
TZNAME:EST
DTSTART:20271107T060000
END:STANDARD
END:VTIMEZONE
BEGIN:VEVENT
DTSTART;TZID=America/Detroit:20260328T100000
DTEND;TZID=America/Detroit:20260328T120000
DTSTAMP:20260421T084750
CREATED:20260127T074439Z
LAST-MODIFIED:20260326T173535Z
UID:799-1774692000-1774699200@msrt.org
SUMMARY:Board of Directors Meeting (ANYONE WELCOME)
DESCRIPTION:Come join us at our bi-monthly Board Meeting to learn about the updates happening within the society\, state\, and nation. The meeting will start promptly at 10am EST and be held via Zoom. \nhttps://umich.zoom.us/j/95112213899 \nMeeting ID: 951 1221 3899
URL:https://msrt.org/event/msrt-board-of-directors-meeting-anyone-welcome/
LOCATION:MI
END:VEVENT
END:VCALENDAR